BEGIN:VCALENDAR
METHOD:PUBLISH
PRODID:www-bafid-fau-de//Events//DE
VERSION:2.0
BEGIN:VEVENT
SUMMARY:Jona einmal anders? Ein biblisches Narrativ und seine interrel
 igiöse antike Rezeption
UID:907f-b447-3db8-9316@www.bafid.fau.de
DESCRIPTION:Im Rahmen des Festivals &#8222\;Fürth feiert Vielfalt&#82
 20\; (26. April bis 11. Mai) hält der stellvertretende Direktor des B
 ayerischen Forschungszentrums für Interreligiöse Diskurse (BaFID) PD
  Dr. Christian Lange einen Vortrag zum Thema des Propheten Jona\, welc
 her drei Tage im Bauch eines Wals verbringen musste. Im deutschen Spra
 chraum ist Jona in erster Linie als der &#8222\;Mann mit dem Fisch&#82
 20\; oder  der &#8222\;Mann mit dem Wal&#8220\; bekannt\, der von ein
 em Fisch verschlungen und drei Tage lang in dessen Inneren war\, wie J
 esus drei Tage in der Scheol\, dem Reich der Toten\, zugebracht hat. D
 aneben gibt es aber noch eine zweite Interpretation: Die Auslegung von
  Jona als dem Propheten für die Völker\, der\, ein Hebräer\, nach e
 inigem Widerstreben auf Anweisung Gottes in die nicht-hebräische Stad
 t Ninive geht\, um dieser den Untergang zu verkünden. Deren Bevölker
 ung nimmt jedoch die Bußpredigt des hebräischen Propheten an und erl
 angt auf diese Weise die Verschonung Gottes. Gerade in dieser zweiten 
 Deutung des Propheten Jona hat sich in der Spätantike ein interessant
 er Diskurs zwischen jüdischen und christlichen Schriften sowie dem Ko
 ran ergeben. Es ist das Ziel dieses Beitrages\, in ausgewählte Aspekt
 e der spätantiken Auslegung des biblischen Jonanarratives vorzustelle
 n.
DTSTART:20250508T160000Z
DTEND:20250508T170000Z
LOCATION:Jüdisches Museum Franken\nKönigstraße 89\n90762 Fürth
DTSTAMP:20260423T072001Z
END:VEVENT
END:VCALENDAR