BEGIN:VCALENDAR
METHOD:PUBLISH
PRODID:www-bafid-fau-de//Events//DE
VERSION:2.0
BEGIN:VEVENT
SUMMARY:KCID Tagung The Concept of Matter and the Concept of Spirit in
  Judaism\, Christianity and Islam
UID:040000008200E00074C5B7101A82E0080000000010CC1778D761DB010000000000
 00000010000000B949D5B4BA43EC40A5E058004CF9888F
DTSTART:20250626T090000Z
DTEND:20250626T190000Z
LOCATION:Erlangen
DTSTAMP:20260421T163844Z
END:VEVENT
END:VCALENDAR